BEGIN:VCALENDAR
VERSION:2.0
PRODID:-//ODG - ECPv6.15.17//NONSGML v1.0//EN
CALSCALE:GREGORIAN
METHOD:PUBLISH
X-ORIGINAL-URL:https://odg.cat/es/
X-WR-CALDESC:Eventos para ODG
REFRESH-INTERVAL;VALUE=DURATION:PT1H
X-Robots-Tag:noindex
X-PUBLISHED-TTL:PT1H
BEGIN:VTIMEZONE
TZID:Europe/Helsinki
BEGIN:DAYLIGHT
TZOFFSETFROM:+0200
TZOFFSETTO:+0300
TZNAME:EEST
DTSTART:20230326T010000
END:DAYLIGHT
BEGIN:STANDARD
TZOFFSETFROM:+0300
TZOFFSETTO:+0200
TZNAME:EET
DTSTART:20231029T010000
END:STANDARD
BEGIN:DAYLIGHT
TZOFFSETFROM:+0200
TZOFFSETTO:+0300
TZNAME:EEST
DTSTART:20240331T010000
END:DAYLIGHT
BEGIN:STANDARD
TZOFFSETFROM:+0300
TZOFFSETTO:+0200
TZNAME:EET
DTSTART:20241027T010000
END:STANDARD
BEGIN:DAYLIGHT
TZOFFSETFROM:+0200
TZOFFSETTO:+0300
TZNAME:EEST
DTSTART:20250330T010000
END:DAYLIGHT
BEGIN:STANDARD
TZOFFSETFROM:+0300
TZOFFSETTO:+0200
TZNAME:EET
DTSTART:20251026T010000
END:STANDARD
END:VTIMEZONE
BEGIN:VEVENT
DTSTART;TZID=Europe/Helsinki:20240301T190000
DTEND;TZID=Europe/Helsinki:20240301T210000
DTSTAMP:20260421T201434
CREATED:20240220T143743Z
LAST-MODIFIED:20240220T143743Z
UID:16584-1709319600-1709326800@odg.cat
SUMMARY:Mesa redonda | Enganchadas al Gas: De la geopolítica a tu cocina
DESCRIPTION:¿Quieres saber la verdad sobre el gas fósil y el hidrógeno?  \nNo te pierdas «Enganchadas al Gas: De la geopolítica a tu cocina»\, una mesa redonda con  \n\nRosa Fraga\, de la Plataforma por un Nuevo Modelo Energético\nMarina Gros\, de Ecologistas en Acción\nJosep Nualart Corpas\, del ODG\nPaco del Pozo\, de Greenpeace
URL:https://odg.cat/es/activitat/mesa-redonda-enganchadas-al-gas-de-la-geopolitica-a-tu-cocina/
LOCATION:Ateneo La Maliciosa\, Calle de las Peñuelas 12\, Madrid\, Espanya
ATTACH;FMTTYPE=image/jpeg:https://odg.cat/wp-content/uploads/2024/02/GGuaObtWkAA1DJF.jpg
END:VEVENT
BEGIN:VEVENT
DTSTART;TZID=Europe/Helsinki:20240304T180000
DTEND;TZID=Europe/Helsinki:20240304T200000
DTSTAMP:20260421T201434
CREATED:20240226T082616Z
LAST-MODIFIED:20240226T082616Z
UID:16614-1709575200-1709582400@odg.cat
SUMMARY:Debats ODG | Miradas queer y feministas contra el militarismo
DESCRIPTION:Este 8 de marzo está marcado por un contexto internacional convulso\, con múltiples conflictos armados\, genocidios televisados\, políticas migratorias racistas y con una tendencia de seguritización creciente en todo el mundo.\n \nEl movimiento feminista y queer no queda ajeno a esta realidad\, y por eso el lema de la manifestación unitaria del 8M es «Mujeres\, lesbianas y trans de pie contra las precariedades\, las fronteras y los genocidios». Pero cuál es el análisis que se hace desde las luchas feministas de las guerras y conflictos armados\, qué experiencias de lucha antimilitarista podemos recuperar\, y cómo podemos dar respuesta al auge militarista des de una perspectiva de género y queer? \nLo hablaremos con:\n \n\nMontserrat Cervera\, activista en Dones x Dones i Ca la Dona\nJoana Bregolat\, activista ecofeminista y queer\n\n📝Inscripciones en formacio@odg.cat
URL:https://odg.cat/es/activitat/debats-odg-miradas-queer-y-feministas-contra-el-militarismo/
LOCATION:Oficina ODG\, c/ Junta de Comerç 20. Pral\, Barcelona\, 08001\, Espanya
ATTACH;FMTTYPE=image/jpeg:https://odg.cat/wp-content/uploads/2024/02/Debats-ODG-5-scaled.jpg
END:VEVENT
BEGIN:VEVENT
DTSTART;TZID=Europe/Helsinki:20240313T130000
DTEND;TZID=Europe/Helsinki:20240313T150000
DTSTAMP:20260421T201434
CREATED:20240306T083107Z
LAST-MODIFIED:20240306T083107Z
UID:16777-1710334800-1710342000@odg.cat
SUMMARY:Cineforum | ¿Horitzontes sostenibles?
DESCRIPTION:Pase del documental: “El coste oculto: la otra cara de la transición verde» en la UAB. \nA posteriori habrá un coloquio con nuestra compañera Marta Pérez Fargas. \nEn la Sala d’actes de la Facultat de Ciències i Biociències. \nOrganita: Comissió de Sostenibilitat de la Facultat de Ciències i Biociències
URL:https://odg.cat/es/activitat/cineforum-horitzontes-sostenibles/
LOCATION:Universitat Autònoma de Barcelona\, Espanya
ATTACH;FMTTYPE=image/jpeg:https://odg.cat/wp-content/uploads/2024/03/Cartel-Cineforum-scaled.jpg
END:VEVENT
BEGIN:VEVENT
DTSTART;TZID=Europe/Helsinki:20240317T103000
DTEND;TZID=Europe/Helsinki:20240317T120000
DTSTAMP:20260421T201434
CREATED:20240228T161309Z
LAST-MODIFIED:20240315T081528Z
UID:16722-1710671400-1710676800@odg.cat
SUMMARY:Proyección del documental "El coste oculto" y coloquio
DESCRIPTION:Proyección del documental «El coste oculto» en Huesca\, en el marco de las jornadas de ecologismo social y defensa del territorio «La cara oculta de la transición energética»\, organizadas por la CNT Huesca. Participará nuestra compañera Marta Pérez para explicar cuáles son los impactos de la transición verde. \nPara más información y ver el trailer\, clica aquí.
URL:https://odg.cat/es/activitat/proyeccion-del-documental-el-coste-oculto-y-coloquio/
LOCATION:La Catalítica\, Carrer Lanuza 34\, Huesca\, Espanya
ATTACH;FMTTYPE=image/jpeg:https://odg.cat/wp-content/uploads/2024/02/photo_2024-03-15_09-12-24.jpg
END:VEVENT
BEGIN:VEVENT
DTSTART;TZID=Europe/Helsinki:20240321T170000
DTEND;TZID=Europe/Helsinki:20240321T200000
DTSTAMP:20260421T201434
CREATED:20240319T103633Z
LAST-MODIFIED:20240319T103633Z
UID:16866-1711040400-1711051200@odg.cat
SUMMARY:Charla | Luchas en defensa del territorio: Voces de Abya Yala
DESCRIPTION:Charla sobre las luchas en defensa del territorio de Abya Yala (América Latina) dentro del Ciclo de charlas sobre Crisis Ecosocial y Nuevos Horizontes organizado por EndFossil Barcelona en la Universidad de Barcelona. Participarán Loreto Millalén\, Dalia Bolaños y Guadalupe Záyago. Moderado por nuestra compañera Julia Martí Comas. En la UB Central\, Edificio Josep Carner – Aula Gabriel Oliver (Planta -1).
URL:https://odg.cat/es/activitat/charla-luchas-en-defensa-del-territorio-voces-de-abya-yala/
LOCATION:Universitat de Barcelona\, Carrer Aribau 2
ATTACH;FMTTYPE=image/png:https://odg.cat/wp-content/uploads/2024/03/Cartell-Lluites-Territori-Abya-Yala.png
END:VEVENT
END:VCALENDAR