BEGIN:VCALENDAR
VERSION:2.0
PRODID:-//ODG - ECPv6.15.17//NONSGML v1.0//EN
CALSCALE:GREGORIAN
METHOD:PUBLISH
X-WR-CALNAME:ODG
X-ORIGINAL-URL:https://odg.cat/es/
X-WR-CALDESC:Eventos para ODG
REFRESH-INTERVAL;VALUE=DURATION:PT1H
X-Robots-Tag:noindex
X-PUBLISHED-TTL:PT1H
BEGIN:VTIMEZONE
TZID:Europe/Helsinki
BEGIN:DAYLIGHT
TZOFFSETFROM:+0200
TZOFFSETTO:+0300
TZNAME:EEST
DTSTART:20230326T010000
END:DAYLIGHT
BEGIN:STANDARD
TZOFFSETFROM:+0300
TZOFFSETTO:+0200
TZNAME:EET
DTSTART:20231029T010000
END:STANDARD
BEGIN:DAYLIGHT
TZOFFSETFROM:+0200
TZOFFSETTO:+0300
TZNAME:EEST
DTSTART:20240331T010000
END:DAYLIGHT
BEGIN:STANDARD
TZOFFSETFROM:+0300
TZOFFSETTO:+0200
TZNAME:EET
DTSTART:20241027T010000
END:STANDARD
BEGIN:DAYLIGHT
TZOFFSETFROM:+0200
TZOFFSETTO:+0300
TZNAME:EEST
DTSTART:20250330T010000
END:DAYLIGHT
BEGIN:STANDARD
TZOFFSETFROM:+0300
TZOFFSETTO:+0200
TZNAME:EET
DTSTART:20251026T010000
END:STANDARD
END:VTIMEZONE
BEGIN:VEVENT
DTSTART;TZID=Europe/Helsinki:20240201T190000
DTEND;TZID=Europe/Helsinki:20240201T210000
DTSTAMP:20260421T214424
CREATED:20240116T111017Z
LAST-MODIFIED:20240117T090529Z
UID:16320-1706814000-1706821200@odg.cat
SUMMARY:Presentación del documental "El cost amagat"
DESCRIPTION:El próximo jueves 1 de febrero presentamos en La Base un documental que recoge los impactos que la transición europea está teniendo en países como Chile y Argentina\, países exportadores de litio\, cobre e hidrógeno verde\, necesarios para la descarbonización y sobre todo por uno de los elementos centrales de la transición: la electromovilidad. \nEs una invitación a escuchar las voces de las que reciben los impactos de una transición pensada desde los países enriquecidos\, pero también a preguntarnos: ¿qué pensamos hacer desde el norte global? Para reflexionar sobre ello\, después de la proyección haremos un coloquio con compañeras del ODG y de Energetix Poble Sec. \nLa proyección también vendrá acompañada de una exposición de fotos del trabajo de campo en el territorio.
URL:https://odg.cat/es/activitat/presentacio-documental-el-cost-amagat/
LOCATION:Ateneu Cooperatiu La Base\, c/ Hortes 10\, Barcelona
ATTACH;FMTTYPE=image/jpeg:https://odg.cat/wp-content/uploads/2023/11/web.jpg
END:VEVENT
BEGIN:VEVENT
DTSTART;TZID=Europe/Helsinki:20240202T100000
DTEND;TZID=Europe/Helsinki:20240202T110000
DTSTAMP:20260421T214424
CREATED:20240116T092012Z
LAST-MODIFIED:20240116T092258Z
UID:16317-1706868000-1706871600@odg.cat
SUMMARY:Presentación del Mapa de los impactos de la Transición Verde y Digital de Barcelona
DESCRIPTION:Presentación del mapa sobre los impactos de la transición verde y digital de Barcelona en el Sur Global\, en el que explicaremos el proceso de elaboración y todo su contenido. Habrá copias en A2 del mapa para repartir. \nInscripcionEs \nEsta actividad se enmarca en el convenio de colaboración entre la Dirección de Justicia Global y Cooperación Internacional del Ayuntamiento de Barcelona y Lafede.cat – Organizaciones para la Justicia Global. El ODG lleva su realización técnica como entidad consultora.
URL:https://odg.cat/es/activitat/presentacion-del-mapa-de-los-impactos-de-la-transicion-verde-y-digital-de-barcelona/
LOCATION:La Fede\, c/ Tàpies 1-3\, Barcelona
ATTACH;FMTTYPE=image/png:https://odg.cat/wp-content/uploads/2024/01/Mapa2FEB_MAPA.png
END:VEVENT
BEGIN:VEVENT
DTSTART;TZID=Europe/Helsinki:20240205T180000
DTEND;TZID=Europe/Helsinki:20240205T200000
DTSTAMP:20260421T214424
CREATED:20240126T091007Z
LAST-MODIFIED:20240126T091007Z
UID:16404-1707156000-1707163200@odg.cat
SUMMARY:#DebatsODG | Austeridad\, defensa y extractivismo verde
DESCRIPTION:España cerró la presidencia de la UE con un acuerdo del Consejo de Ministros de Economía y Finanzas: la reforma de las reglas fiscales de la UE. Este acuerdo implicará de nuevo recortes\, pero favorecerá inversiones en transición verde y digital y en políticas de seguridad y defensa. ¿Esta es la UE que queremos? Para abordar las implicaciones de la reforma del marco fiscal de la UE nos encontraremos en la 4ª sesión de los debates ODG con nuestra compañera Nicola Scherer y Pere Ortega (Centre Delàs). \nInscripcionEs
URL:https://odg.cat/es/activitat/debatsodg-austeridad-defensa-y-extractivismo-verde/
LOCATION:La Fede\, c/ Tàpies 1-3\, Barcelona
ATTACH;FMTTYPE=image/jpeg:https://odg.cat/wp-content/uploads/2023/11/DebatsODG4-scaled.jpg
END:VEVENT
BEGIN:VEVENT
DTSTART;TZID=Europe/Helsinki:20240217T100000
DTEND;TZID=Europe/Helsinki:20240217T120000
DTSTAMP:20260421T214424
CREATED:20240122T151256Z
LAST-MODIFIED:20240122T151256Z
UID:16386-1708164000-1708171200@odg.cat
SUMMARY:Charla | Justícia climática y problemas de la transición verde
DESCRIPTION:Los días 16 y 17 de febrero tendrá lugar una nueva edición del Seminario de Invierno de Unipau en la Casa de Cultura de Sant Cugat. La justicia climática será el tema central. Exploraremos los efectos del cambio climático en la sociedad y cómo recibimos esta información por parte de los medios de comunicación. Nuestro compañero Alfons Pérez participará en la mesa sobre «Justicia climática y problemas de la transición verde» el sábado 17 a las 10h de la mañana. \n\n\nToda la programación del seminario se puede encontrar aquí.\n\n\nInscripcionEs
URL:https://odg.cat/es/activitat/charla-justicia-climatica-y-problemas-de-la-transicion-verde/
LOCATION:Casa de Cultura de Sant Cugat\, Castellví\, 8\, Sant Cugat
ATTACH;FMTTYPE=image/jpeg:https://odg.cat/wp-content/uploads/2024/01/Cartell-Seminari_Hivern-1-1097x1536-1.jpg
END:VEVENT
BEGIN:VEVENT
DTSTART;TZID=Europe/Helsinki:20240220T183000
DTEND;TZID=Europe/Helsinki:20240220T200000
DTSTAMP:20260421T214424
CREATED:20240208T155920Z
LAST-MODIFIED:20240208T155920Z
UID:16529-1708453800-1708459200@odg.cat
SUMMARY:Charla | ¿Decrecimiento ecofeminista o austeridad impuesta?
DESCRIPTION:Las propuestas de transición necesitan los feminismos para imaginar futuros más justos. El 20 de febrero lo hablamos con Corina Dengler y Júlia Martí. Con interpretación al catalán y el inglés.
URL:https://odg.cat/es/activitat/charla-decrecimiento-ecofeminista-o-austeridad-impuesta/
LOCATION:Pati Llimona\, Carrer Regomir 3\, Barcelona\, 08002\, Espanya
ATTACH;FMTTYPE=image/jpeg:https://odg.cat/wp-content/uploads/2024/02/decreixement-ecofeminista-2-1.jpg
END:VEVENT
BEGIN:VEVENT
DTSTART;TZID=Europe/Helsinki:20240223T180000
DTEND;TZID=Europe/Helsinki:20240223T193000
DTSTAMP:20260421T214424
CREATED:20240213T113948Z
LAST-MODIFIED:20240213T113948Z
UID:16556-1708711200-1708716600@odg.cat
SUMMARY:Charla | COP28: ¿Y ahora qué?
DESCRIPTION:En el contexto de emergencia climática actual\, la COP28 nos dejó bastantes dudas y pocas soluciones… Nuestra compañera Claudia Custodio participará en esta charla para hablar sobre cómo construir un horizonte después de la COP28.
URL:https://odg.cat/es/activitat/charla-cop28-y-ahora-que/
LOCATION:Seu de Joves Ecosocialistes\, Carrer Marina 131 bis baixos\, Barcelona\, 08013
ATTACH;FMTTYPE=image/jpeg:https://odg.cat/wp-content/uploads/2024/02/GGNpPXmXAAAUcyz.jpg
END:VEVENT
BEGIN:VEVENT
DTSTART;TZID=Europe/Helsinki:20240227T180000
DTEND;TZID=Europe/Helsinki:20240227T190000
DTSTAMP:20260421T214424
CREATED:20240222T083900Z
LAST-MODIFIED:20240222T083900Z
UID:16602-1709056800-1709060400@odg.cat
SUMMARY:Formación online | Hidrógeno: ¿vector clave o limitante de la transición energética?
DESCRIPTION:Nuestro compañero Josep Nualart participará en el Twitch de Degrowth LAB sobre hidrógeno y para responder a todas las dudas que salgan. Para hacer preguntas\, se podrá seguir en: https://www.twitch.tv/degrowthlab \n 
URL:https://odg.cat/es/activitat/formacion-online-hidrogeno-vector-clave-o-limitante-de-la-transicion-energetica/
LOCATION:Online
ATTACH;FMTTYPE=image/jpeg:https://odg.cat/wp-content/uploads/2024/02/Cartel-Josep-jpg.jpg
END:VEVENT
BEGIN:VEVENT
DTSTART;TZID=Europe/Helsinki:20240228T190000
DTEND;TZID=Europe/Helsinki:20240228T203000
DTSTAMP:20260421T214424
CREATED:20240209T103238Z
LAST-MODIFIED:20240209T103238Z
UID:16546-1709146800-1709152200@odg.cat
SUMMARY:Les veus de la república: la geopolítica de los minerales y la energía escasa
DESCRIPTION:Les Veus de la República es un espacio de debate sobre aspectos relacionados con la organización de lo público (res publica). Ponentes y ciudadanía hablan de política\, sociología\, comunicación\, historia\, economía… desde una perspectiva teórica\, pero también práctica y vivencial. \nEl 28 de febrero se hablará de las relaciones entre las potencias mundiales\, que se disputan el acceso y el comercio de los minerales y fuentes de energía tan necesarios como escasos para un mundo digital y con el clima calentado. Con la participación de nuestro compañero Alfons Pérez López\, y Víctor Burguete Vidal\, Investigador senior en el área de Geopolítica Global y Seguridad en CIDOB. Moderado por Marta Masats. \nInscripcionEs
URL:https://odg.cat/es/activitat/les-veus-de-la-republica-la-geopolitica-de-los-minerales-y-la-energia-escasa/
LOCATION:Casa Orlandai\, Carrer Jaume Piquet\, 23\, Barcelona\, 08017\, Espanya
ATTACH;FMTTYPE=image/jpeg:https://odg.cat/wp-content/uploads/2024/02/WEB_Les_veus_Tardor-600x400-1.jpg
END:VEVENT
BEGIN:VEVENT
DTSTART;TZID=Europe/Helsinki:20240229T100000
DTEND;TZID=Europe/Helsinki:20240229T173000
DTSTAMP:20260421T214424
CREATED:20240220T153349Z
LAST-MODIFIED:20240220T153349Z
UID:16588-1709200800-1709227800@odg.cat
SUMMARY:Seminario | La agenda verde y digital de la UE: ¿Giro político o más de lo mismo?
DESCRIPTION:Nuestra compañera Clàudia Custodio participará en el seminario sobre la agenda verde y digital de la UE organizado por ELA SINDIKATUA y OMAL en Bilbo. Se podrá seguir por streaming. \nPrograma \n10:00 – 11:15: “La agenda actual de la UE: una mirada crítica” \n Gonzalo Fernández (OMAL) y Claudia Custodio (ODG) \n11:30 – 13:15: “Desigualdades\, deuda y austeridad” \n Amaia P. Orozco (XXK)\, Fito Rodríguez (EeA) y Xabi Zabala (ELA) \n15:00 – 16:00: “Condicionalidad y contrarreformas” \n Mitxel Lakunza (ELA) y Juan Hernández (OMAL) \n16:00 – 17:30: “Grandes empresas y megaproyectos” \nGorka Martija (OMAL)\, Pablo Llorente (Sustrai)\, Lorea Flores (Greenpeace EH)
URL:https://odg.cat/es/activitat/seminario-la-agenda-verde-y-digital-de-la-ue-giro-politico-o-mas-de-lo-mismo/
LOCATION:ELA Sindikatua\, Barrainkua\, 13\, Bilbao\, España
ATTACH;FMTTYPE=image/jpeg:https://odg.cat/wp-content/uploads/2024/02/photo_2024-02-20_16-20-00.jpg
END:VEVENT
END:VCALENDAR