BEGIN:VCALENDAR
VERSION:2.0
PRODID:-//ODG - ECPv6.15.17//NONSGML v1.0//EN
CALSCALE:GREGORIAN
METHOD:PUBLISH
X-ORIGINAL-URL:https://odg.cat/en/
X-WR-CALDESC:Events for ODG
REFRESH-INTERVAL;VALUE=DURATION:PT1H
X-Robots-Tag:noindex
X-PUBLISHED-TTL:PT1H
BEGIN:VTIMEZONE
TZID:Europe/Helsinki
BEGIN:DAYLIGHT
TZOFFSETFROM:+0200
TZOFFSETTO:+0300
TZNAME:EEST
DTSTART:20220327T010000
END:DAYLIGHT
BEGIN:STANDARD
TZOFFSETFROM:+0300
TZOFFSETTO:+0200
TZNAME:EET
DTSTART:20221030T010000
END:STANDARD
BEGIN:DAYLIGHT
TZOFFSETFROM:+0200
TZOFFSETTO:+0300
TZNAME:EEST
DTSTART:20230326T010000
END:DAYLIGHT
BEGIN:STANDARD
TZOFFSETFROM:+0300
TZOFFSETTO:+0200
TZNAME:EET
DTSTART:20231029T010000
END:STANDARD
BEGIN:DAYLIGHT
TZOFFSETFROM:+0200
TZOFFSETTO:+0300
TZNAME:EEST
DTSTART:20240331T010000
END:DAYLIGHT
BEGIN:STANDARD
TZOFFSETFROM:+0300
TZOFFSETTO:+0200
TZNAME:EET
DTSTART:20241027T010000
END:STANDARD
END:VTIMEZONE
BEGIN:VEVENT
DTSTART;TZID=Europe/Helsinki:20230315T173000
DTEND;TZID=Europe/Helsinki:20230315T190000
DTSTAMP:20260419T173956
CREATED:20230310T084957Z
LAST-MODIFIED:20230310T084957Z
UID:14154-1678901400-1678906800@odg.cat
SUMMARY:Webinar | Recovery and gas at full throttle
DESCRIPTION:Josep Nualart will participate in the third Webinar of the series part of the project Citizens’ Observatory for Green Deal Financing\, organised by ReCommon. In this webinar\, we will look at how Italy and Spain have set their energy strategies in the framework of the REPowerEU Plan. We will explore the environmental\, social and economic impacts of new LNG terminals\, and which alternatives should be prioritised instead.   \nThe webinar will be in Italian and English with simultaneous interpretation in both languages. Previous registration required at the following link.
URL:https://odg.cat/en/activitat/webinar-recovery-and-gas-at-full-throttle/
LOCATION:Online
ATTACH;FMTTYPE=image/jpeg:https://odg.cat/wp-content/uploads/2023/03/Webinar-ReCommon-Gas.jpg
END:VEVENT
BEGIN:VEVENT
DTSTART;TZID=Europe/Helsinki:20230207T173000
DTEND;TZID=Europe/Helsinki:20230207T190000
DTSTAMP:20260419T173956
CREATED:20230130T085239Z
LAST-MODIFIED:20230130T085239Z
UID:13780-1675791000-1675796400@odg.cat
SUMMARY:Webinar | What infrastructure for a just transition?
DESCRIPTION:First webinar within the project Citizens’ Observatory for Green Deal Financing European. The webinar “Which infrastructure for the just transition?”\, organized by our colleagues from ReCommon\, will look at two major Italian infrastructure: the new breakwater in Genoa\, funded by the Italian RRP\, and the widening of the Bologna highway bypass\, a public infrastructure presented as a symbol of ecological transition. We will also turn our gaze to Estonia\, with the Estonian Green Movement’s testimony on the Rail Baltica infrastructure\, also funded by the Estonian RRP. \nThe webinar will be in Italian with simultaneous interpretation in English. \nPlease register beforehand here.
URL:https://odg.cat/en/activitat/webinar-what-infrastructure-for-a-just-transition/
LOCATION:Online
ATTACH;FMTTYPE=image/jpeg:https://odg.cat/wp-content/uploads/2023/01/FneQE0VWAAEZKb2.jpeg
END:VEVENT
END:VCALENDAR