BEGIN:VCALENDAR
VERSION:2.0
PRODID:-//ODG - ECPv6.15.17//NONSGML v1.0//EN
CALSCALE:GREGORIAN
METHOD:PUBLISH
X-WR-CALNAME:ODG
X-ORIGINAL-URL:https://odg.cat
X-WR-CALDESC:Esdeveniments per ODG
REFRESH-INTERVAL;VALUE=DURATION:PT1H
X-Robots-Tag:noindex
X-PUBLISHED-TTL:PT1H
BEGIN:VTIMEZONE
TZID:Europe/Helsinki
BEGIN:DAYLIGHT
TZOFFSETFROM:+0200
TZOFFSETTO:+0300
TZNAME:EEST
DTSTART:20240331T010000
END:DAYLIGHT
BEGIN:STANDARD
TZOFFSETFROM:+0300
TZOFFSETTO:+0200
TZNAME:EET
DTSTART:20241027T010000
END:STANDARD
BEGIN:DAYLIGHT
TZOFFSETFROM:+0200
TZOFFSETTO:+0300
TZNAME:EEST
DTSTART:20250330T010000
END:DAYLIGHT
BEGIN:STANDARD
TZOFFSETFROM:+0300
TZOFFSETTO:+0200
TZNAME:EET
DTSTART:20251026T010000
END:STANDARD
BEGIN:DAYLIGHT
TZOFFSETFROM:+0200
TZOFFSETTO:+0300
TZNAME:EEST
DTSTART:20260329T010000
END:DAYLIGHT
BEGIN:STANDARD
TZOFFSETFROM:+0300
TZOFFSETTO:+0200
TZNAME:EET
DTSTART:20261025T010000
END:STANDARD
END:VTIMEZONE
BEGIN:VEVENT
DTSTART;VALUE=DATE:20250703
DTEND;VALUE=DATE:20250707
DTSTAMP:20260425T034901
CREATED:20250526T134554Z
LAST-MODIFIED:20260203T123308Z
UID:19930-1751500800-1751846399@odg.cat
SUMMARY:Congrés - Més enllà de l'aviació\, la turistització i el capitalisme
DESCRIPTION:Congrés a Barcelona: “Més enllà de l’aviació\, la turistització i el capitalisme. Per una mobilitat justa per a totes”.\nEn un context d’emergència climàtica\, crisi de l’habitatge i turistització\, volem trobar-nos per debatre i teixir estratègies sobre un fenomen també en augment: l’aviació. Les indústries de l’aviació i el turisme agreugen tots aquests problemes i estan directament relacionades amb l’imperatiu de creixement del capitalisme global. És més necessari que mai pressionar per a una reducció de l’aviació juntament amb persones i moviments que lluiten contra aquests efectes negatius\, i entendre quines són les arrels del problema. Per això\, creiem que ha arribat el moment de trobar-nos\, connectar diferents perspectives i moviments\, unir forces i planificar estratègicament de manera conjunta. \n🚧 Congrés més enllà de l’aviació\, la turistització i el capitalisme – estratègia de moviments socials \n🗓 3-6 de juliol\n📍Barcelona \n👉 Més informació i inscripcions \nOrganitzat per Stay Grounded i Zeroport\, amb el suport de l’ODG. \n🗯  Fes-ne difusió!
URL:https://odg.cat/activitat/conferencia-stay-grounded/
ATTACH;FMTTYPE=image/png:https://odg.cat/wp-content/uploads/2025/05/Screenshot-2025-05-26-at-15-43-45-Stay-Grounded-homepage-—-Stay-Grounded.png
END:VEVENT
BEGIN:VEVENT
DTSTART;TZID=Europe/Helsinki:20250711T200000
DTEND;TZID=Europe/Helsinki:20250711T213000
DTSTAMP:20260425T034901
CREATED:20250603T111717Z
LAST-MODIFIED:20250710T120242Z
UID:19947-1752264000-1752269400@odg.cat
SUMMARY:Projecció 'El cost amagat' en el Cicle de CinemaKm0
DESCRIPTION:Projecció del documental ‘El cost amagat. L’altra cara de la transició verda’ en el cicle de CineKm0 de La Salut\, a Barcelona.
URL:https://odg.cat/activitat/projeccio-el-cost-amagat-en-el-cicle-de-cinemakm0/
ATTACH;FMTTYPE=image/png:https://odg.cat/wp-content/uploads/2025/06/Cartell-A3-ESTIU-2025-el-cost-amagat-km0-e1748948044602.png
END:VEVENT
BEGIN:VEVENT
DTSTART;TZID=Europe/Helsinki:20250717T203000
DTEND;TZID=Europe/Helsinki:20250717T213000
DTSTAMP:20260425T034901
CREATED:20250710T121748Z
LAST-MODIFIED:20250908T135621Z
UID:20313-1752784200-1752787800@odg.cat
SUMMARY:Projecció 'El cost amagat' i 'Les terres per viure'\, a la fresca
DESCRIPTION:Dins del cicle de cinema a la fresca de l’Ateneu La Zitzània\, projectem el documental ‘El cost amagat. L’altra cara de la transició verda’ (2023) i el curtmetratge ‘Les terres\, per viure’ (2024).
URL:https://odg.cat/activitat/projeccio-el-cost-amagat-terres-per-viure-a-la-fresca/
LOCATION:Plaça de Can Robacols 1\, Plaça de Can Robacols\, 1\, Barcelona\, Barcelona\, 08026\, Spain
ATTACH;FMTTYPE=image/jpeg:https://odg.cat/wp-content/uploads/2025/07/5972136885784529330-e1752149469996.jpg
END:VEVENT
END:VCALENDAR